BEGIN:VCALENDAR
VERSION:2.0
PRODID:-// - ECPv4.9.10//NONSGML v1.0//EN
CALSCALE:GREGORIAN
METHOD:PUBLISH
X-ORIGINAL-URL:https://gibsonmusichall.com
X-WR-CALDESC:Events for 
BEGIN:VTIMEZONE
TZID:America/Chicago
BEGIN:DAYLIGHT
TZOFFSETFROM:-0600
TZOFFSETTO:-0500
TZNAME:CDT
DTSTART:20260308T080000
END:DAYLIGHT
BEGIN:STANDARD
TZOFFSETFROM:-0500
TZOFFSETTO:-0600
TZNAME:CST
DTSTART:20261101T070000
END:STANDARD
END:VTIMEZONE
BEGIN:VEVENT
DTSTART;TZID=America/Chicago:20260509T193000
DTEND;TZID=America/Chicago:20260509T230000
DTSTAMP:20260419T230711
CREATED:20260414T220021Z
LAST-MODIFIED:20260414T220021Z
UID:119323-1778355000-1778367600@gibsonmusichall.com
SUMMARY:An Evening with the Cash Box Kings!
DESCRIPTION:Saturday\, May 9th\nAn Evening with the Cash Box Kings!\nExperience Chicago Blues Royalty\nEarly Bird Tickets – $20 (plus tax and fees) available through April 20th!\nAdmission (after 4/20) – $25 Advance | $30 at the door\nShowtime: 7:30 pm | Doors: 6:00 pm\nThis is an all-seated\, 2-set blues showcase with TCBK\, the legendary Alligator Records blues band. All seats will be available on a first-come first-served basis upon entry. \n
URL:https://gibsonmusichall.com/event/an-evening-with-the-cash-box-kings/
ATTACH;FMTTYPE=image/png:https://gibsonmusichall.com/wp-content/uploads/2026/04/5-9-Joe-and-Oscar-seated.png
END:VEVENT
END:VCALENDAR