BEGIN:VCALENDAR
VERSION:2.0
PRODID:-// - ECPv4.9.10//NONSGML v1.0//EN
CALSCALE:GREGORIAN
METHOD:PUBLISH
X-ORIGINAL-URL:https://gibsonmusichall.com
X-WR-CALDESC:Events for 
BEGIN:VTIMEZONE
TZID:America/Chicago
BEGIN:DAYLIGHT
TZOFFSETFROM:-0600
TZOFFSETTO:-0500
TZNAME:CDT
DTSTART:20250309T080000
END:DAYLIGHT
BEGIN:STANDARD
TZOFFSETFROM:-0500
TZOFFSETTO:-0600
TZNAME:CST
DTSTART:20251102T070000
END:STANDARD
END:VTIMEZONE
BEGIN:VEVENT
DTSTART;TZID=America/Chicago:20251226T200000
DTEND;TZID=America/Chicago:20251226T220000
DTSTAMP:20260423T124833
CREATED:20251215T172722Z
LAST-MODIFIED:20251215T172722Z
UID:114844-1766779200-1766786400@gibsonmusichall.com
SUMMARY:Baba Ghanooj - Rockin' The Holidays!
DESCRIPTION:Friday\, 12/26:\nBaba Ghanooj – Rockin’ The Holidays!\nShowtime 8pm | Doors 6:30pm with a social playlist hour\n$10 Advance Ticket\nAdvance buyers get a guaranteed seat with first-come first-serve on the location.\nCome out of the cold and into Gibson Music Hall the day after Christmas – bring your family with or take this as a an opportunity to get away for a night! Either way\, there’s sure to be great drinks\, great sound\, and an all around fun time. \n
URL:https://gibsonmusichall.com/event/baba-ghanooj-rockin-the-holidays-2/
ATTACH;FMTTYPE=image/jpeg:https://gibsonmusichall.com/wp-content/uploads/2025/12/12-26-Baba-Ghanooj.jpg
END:VEVENT
END:VCALENDAR