BEGIN:VCALENDAR
VERSION:2.0
PRODID:-// - ECPv4.9.10//NONSGML v1.0//EN
CALSCALE:GREGORIAN
METHOD:PUBLISH
X-ORIGINAL-URL:https://gibsonmusichall.com
X-WR-CALDESC:Events for 
BEGIN:VTIMEZONE
TZID:America/Chicago
BEGIN:DAYLIGHT
TZOFFSETFROM:-0600
TZOFFSETTO:-0500
TZNAME:CDT
DTSTART:20180311T080000
END:DAYLIGHT
BEGIN:STANDARD
TZOFFSETFROM:-0500
TZOFFSETTO:-0600
TZNAME:CST
DTSTART:20181104T070000
END:STANDARD
END:VTIMEZONE
BEGIN:VEVENT
DTSTART;TZID=America/Chicago:20180316T180000
DTEND;TZID=America/Chicago:20180316T180000
DTSTAMP:20260422T004759
CREATED:20170803T025454Z
LAST-MODIFIED:20180120T025950Z
UID:15972-1521223200-1521223200@gibsonmusichall.com
SUMMARY:Blue Collar Blues Band
DESCRIPTION:Blue Collar Blues Band was founded circa 1980 by Hoss Hosmer and Terry Mewhorter. The group has gone through many changes to personnel over the years but one thing has remained constant (We Love The Blues). The foundation of the group consisted of Guitar\, Harmonica\, Bass and Drums\, with the addition of Saxophone from time to time. Current members: Hoss Hosmer on Guitar\, Terry Mewhorter on Harmonica\, Russ Allen on Drums\, Aaron Pantol on Bass. Mike Meidl on Sax joins the group for most of the year but loves his winter Hiatus from time to time. Rick Maki (AKA Malletkat) tickles the Vibes since joining recently.  All members of the group have taken part in vocal duties. \n
URL:https://gibsonmusichall.com/event/blue-collar-blues-band/
CATEGORIES:Blues
ATTACH;FMTTYPE=image/jpeg:https://gibsonmusichall.com/wp-content/uploads/2017/08/BlueCollarBluesBand-1.jpg
END:VEVENT
END:VCALENDAR