BEGIN:VCALENDAR
VERSION:2.0
PRODID:-// - ECPv4.9.10//NONSGML v1.0//EN
CALSCALE:GREGORIAN
METHOD:PUBLISH
X-ORIGINAL-URL:https://gibsonmusichall.com
X-WR-CALDESC:Events for 
BEGIN:VTIMEZONE
TZID:America/Chicago
BEGIN:DAYLIGHT
TZOFFSETFROM:-0600
TZOFFSETTO:-0500
TZNAME:CDT
DTSTART:20260308T080000
END:DAYLIGHT
BEGIN:STANDARD
TZOFFSETFROM:-0500
TZOFFSETTO:-0600
TZNAME:CST
DTSTART:20261101T070000
END:STANDARD
END:VTIMEZONE
BEGIN:VEVENT
DTSTART;TZID=America/Chicago:20260515T210000
DTEND;TZID=America/Chicago:20260515T230000
DTSTAMP:20260424T201338
CREATED:20260421T134146Z
LAST-MODIFIED:20260421T134146Z
UID:119480-1778878800-1778886000@gibsonmusichall.com
SUMMARY:Buffalo Galaxy & The MilBillies
DESCRIPTION:Friday\, May 15th:\nA late night bluegrass bash celebrating Light the Night in Downtown Appleton!\nBuffalo Galaxy & The MilBillies\nDeep Space\, Light Speed Bluegrass meets Hot Dirty Blue Grass!!!\nShowtime: 9 pm Special Start | Doors: 7:30 pm\nAdmission: $15 Advance | $20 at the Door\nMusic-Makers receive early bird exclusive discount for this show thru May 1 using standard savings code\nShow Format for 5/15: First-come\, first-served seating available on Stage Flank Upper Right and Upper Left and in back half of room; Standing Area & Dance Floor open in front of stage and middle of room. \n
URL:https://gibsonmusichall.com/event/buffalo-galaxy-the-milbillies/
ATTACH;FMTTYPE=image/jpeg:https://gibsonmusichall.com/wp-content/uploads/2026/04/5-15-Banner.jpg
END:VEVENT
END:VCALENDAR