BEGIN:VCALENDAR
VERSION:2.0
PRODID:-// - ECPv4.9.10//NONSGML v1.0//EN
CALSCALE:GREGORIAN
METHOD:PUBLISH
X-ORIGINAL-URL:https://gibsonmusichall.com
X-WR-CALDESC:Events for 
BEGIN:VTIMEZONE
TZID:America/Chicago
BEGIN:DAYLIGHT
TZOFFSETFROM:-0600
TZOFFSETTO:-0500
TZNAME:CDT
DTSTART:20180311T080000
END:DAYLIGHT
BEGIN:STANDARD
TZOFFSETFROM:-0500
TZOFFSETTO:-0600
TZNAME:CST
DTSTART:20181104T070000
END:STANDARD
END:VTIMEZONE
BEGIN:VEVENT
DTSTART;TZID=America/Chicago:20180915T190000
DTEND;TZID=America/Chicago:20180915T190000
DTSTAMP:20260421T122913
CREATED:20180701T223001Z
LAST-MODIFIED:20180701T223015Z
UID:38423-1537038000-1537038000@gibsonmusichall.com
SUMMARY:Casey James Prestwood & the Burning Angel
DESCRIPTION:\n\n\nThere’s a movement bringing classic country music into the 21st century\, with a renewed authenticity not typically found on the radio\, and the standard-bearer is Casey James Prestwood.  With roots in the South\, and refined in the Rockies\, Prestwood has crafted a lively and infectious sound that is solely his own. \nhttp://caseyjamesprestwood.com \n\n\n\n
URL:https://gibsonmusichall.com/event/casey-james-prestwood-the-burning-angel/
ATTACH;FMTTYPE=image/jpeg:https://gibsonmusichall.com/wp-content/uploads/2018/07/CaseyJamesPrestwood-e1530484156322.jpg
END:VEVENT
END:VCALENDAR