BEGIN:VCALENDAR
VERSION:2.0
PRODID:-// - ECPv4.9.10//NONSGML v1.0//EN
CALSCALE:GREGORIAN
METHOD:PUBLISH
X-ORIGINAL-URL:https://gibsonmusichall.com
X-WR-CALDESC:Events for 
BEGIN:VTIMEZONE
TZID:America/Chicago
BEGIN:DAYLIGHT
TZOFFSETFROM:-0600
TZOFFSETTO:-0500
TZNAME:CDT
DTSTART:20260308T080000
END:DAYLIGHT
BEGIN:STANDARD
TZOFFSETFROM:-0500
TZOFFSETTO:-0600
TZNAME:CST
DTSTART:20261101T070000
END:STANDARD
END:VTIMEZONE
BEGIN:VEVENT
DTSTART;TZID=America/Chicago:20260508T200000
DTEND;TZID=America/Chicago:20260508T230000
DTSTAMP:20260421T083022
CREATED:20260414T220123Z
LAST-MODIFIED:20260414T220123Z
UID:119358-1778270400-1778281200@gibsonmusichall.com
SUMMARY:Cool Waters Band With Opening Songs from The Duo of Michael Murphy & Joe Sly
DESCRIPTION:Mile of Music and Gibson Music Hall Present\nFriday\, May 8th\nCool Waters Band\nFriday Night Rock & Roots Jam\nWith Opening Songs from The Duo of Michael Murphy & Joe Sly\nShowtime: 8 pm | Doors: 7 pm\nADMISSION: $15 Advance | $20 at Door\nMusic Makers get a special offer with their code.\nThis is a rock n roll show style formatted seating with half standing and half seating sections – with the standing/dancing section in front of the stage.\nExperience Wisconsin’s best original bands at the original venue voted the best by WAMI voters two years running! Thank you for being supporters of the Appleton Music Scene. \n
URL:https://gibsonmusichall.com/event/cool-waters-band-with-opening-songs-from-the-duo-of-michael-murphy-joe-sly/
ATTACH;FMTTYPE=image/jpeg:https://gibsonmusichall.com/wp-content/uploads/2026/04/5-8-Cool-Waters.jpg
END:VEVENT
END:VCALENDAR