BEGIN:VCALENDAR
VERSION:2.0
PRODID:-// - ECPv4.9.10//NONSGML v1.0//EN
CALSCALE:GREGORIAN
METHOD:PUBLISH
X-ORIGINAL-URL:https://gibsonmusichall.com
X-WR-CALDESC:Events for 
BEGIN:VTIMEZONE
TZID:America/Chicago
BEGIN:DAYLIGHT
TZOFFSETFROM:-0600
TZOFFSETTO:-0500
TZNAME:CDT
DTSTART:20220313T080000
END:DAYLIGHT
BEGIN:STANDARD
TZOFFSETFROM:-0500
TZOFFSETTO:-0600
TZNAME:CST
DTSTART:20221106T070000
END:STANDARD
END:VTIMEZONE
BEGIN:VEVENT
DTSTART;TZID=America/Chicago:20220723T190000
DTEND;TZID=America/Chicago:20220723T210000
DTSTAMP:20260421T095424
CREATED:20220718T193134Z
LAST-MODIFIED:20220718T193134Z
UID:75561-1658602800-1658610000@gibsonmusichall.com
SUMMARY:Decoda Chamber Music Festival Showcase at Gibson Community Music Hall
DESCRIPTION:Our friends from Decoda are back in town for their annual Decoda Chamber Music Festival. They have free concerts planned all over town through August 5\, and will again be collaborating with some Mile artists throughout the festival. Join us for a special pre-festival kick-off show right here at Gibson! Decoda artists will play their distinctive style of chamber music\, featuring their own arrangements and original composed material for their unique collection of instruments. \nMusic @ 7:00 PM\nThis is a FREE event! \n
URL:https://gibsonmusichall.com/event/decoda-chamber-music-festival-showcase-at-gibson-community-music-hall/
LOCATION:Gibson Community Music Hall\, 211 W. College Ave.\, Appleton\, WI\, 54911
END:VEVENT
END:VCALENDAR