BEGIN:VCALENDAR
VERSION:2.0
PRODID:-// - ECPv4.9.10//NONSGML v1.0//EN
CALSCALE:GREGORIAN
METHOD:PUBLISH
X-ORIGINAL-URL:https://gibsonmusichall.com
X-WR-CALDESC:Events for 
BEGIN:VTIMEZONE
TZID:America/Chicago
BEGIN:DAYLIGHT
TZOFFSETFROM:-0600
TZOFFSETTO:-0500
TZNAME:CDT
DTSTART:20170312T080000
END:DAYLIGHT
BEGIN:STANDARD
TZOFFSETFROM:-0500
TZOFFSETTO:-0600
TZNAME:CST
DTSTART:20171105T070000
END:STANDARD
END:VTIMEZONE
BEGIN:VEVENT
DTSTART;TZID=America/Chicago:20171209T190000
DTEND;TZID=America/Chicago:20171209T190000
DTSTAMP:20260422T034618
CREATED:20171015T154032Z
LAST-MODIFIED:20171015T154032Z
UID:21217-1512846000-1512846000@gibsonmusichall.com
SUMMARY:Fun w/ Atoms
DESCRIPTION:Fun w/ Atoms are a Power Pop band from Wisconsin that formed in the 1980s. Dan Collins\, Curt Leferve\, and Rick Smith have recorded 3 albums together and continue to play shows around their central hub of Green Bay.\nTheir debut album\, “Main Street” was recorded at Smart Studios by Butch Vig\, prior to his work with Nirvana and a slew of other 90’s rock bands. Along with Spooner\, the Weeds\, and Firetown\, Fun w/ Atoms were an important part of the foundation for the studios reputation. The band continues to record and perform shows with all original band members. All recorded music can be found on CD Baby\, iTunes\, and every streaming site.\n \n
URL:https://gibsonmusichall.com/event/fun-w-atoms/
ATTACH;FMTTYPE=image/jpeg:https://gibsonmusichall.com/wp-content/uploads/2017/10/FunWithAtoms.jpg
END:VEVENT
END:VCALENDAR