BEGIN:VCALENDAR
VERSION:2.0
PRODID:-// - ECPv4.9.10//NONSGML v1.0//EN
CALSCALE:GREGORIAN
METHOD:PUBLISH
X-ORIGINAL-URL:https://gibsonmusichall.com
X-WR-CALDESC:Events for 
BEGIN:VTIMEZONE
TZID:America/Chicago
BEGIN:DAYLIGHT
TZOFFSETFROM:-0600
TZOFFSETTO:-0500
TZNAME:CDT
DTSTART:20190310T080000
END:DAYLIGHT
BEGIN:STANDARD
TZOFFSETFROM:-0500
TZOFFSETTO:-0600
TZNAME:CST
DTSTART:20191103T070000
END:STANDARD
END:VTIMEZONE
BEGIN:VEVENT
DTSTART;TZID=America/Chicago:20190607T200000
DTEND;TZID=America/Chicago:20190607T200000
DTSTAMP:20260421T141043
CREATED:20190516T234542Z
LAST-MODIFIED:20190516T234542Z
UID:53407-1559937600-1559937600@gibsonmusichall.com
SUMMARY:Helen Exner & Friends
DESCRIPTION:*FREE ADMISSION* \nhttps://www.facebook.com/helenexnermusic/ \nHelen Exner returns from Florida for an exclusive evening to play good music with old friends! Jay Stulo(guitar)\, Drew Hicks(bass)\, and Ryan Corb(drums) and of course\, Helen Exner(keys and vocals). \nHelen Exner grew up playing piano from the age of 5\, writing down her first melody at age 8. The daughter of a doctor and nurse\, she spent her childhood in different states and countries. These experiences influenced her love of history and culture\, bringing her from the East Coast to Cameroon (West Africa) and Germany by the age of 12. In 1992 she arrived in Wisconsin\, where she developed her love of classical music through private lessons and a stellar high school arts program at Shawano Community High School. She won state-level awards for her songwriting in high school\, including a choral competition in 1998 that resulted in the Festival Choir of Madison singing her song “Tiller of the Soil\,” in honor of Wisconsin’s 125th anniversary as a state. \nHelen went on to study at the conservatory at Lawrence University in Appleton\, spending two years as a pianist and composition major before graduating with a history degree. Following graduation\, she made her living as a church musician while returning to school to become a licensed teacher. Helen juggled church-musician duties with teaching piano lessons in her private studio and accompanying at schools. She performed frequently as a singer and pianist in the local jazz circuit\, frequenting locales like Cena\, Deja Vu Martini Lounge\, the Farmer’s Market and countless other venues and festivals. During that time\, she gained a following in the local scene as a singer/songwriter who writes piano-driven tunes that tell personal stories–sometimes funny\, sometimes heartbreaking\, but always honest. Her unique sound was featured on the National Public Radio show “A Prairie Home Companion” in 2008 when Garrison Keillor brought his show to Appleton. \nIn 2013 Helen moved to south Florida to begin her math-teaching career\, and she volunteers her time socializing homeless dogs as a member of the Everglades Angels Dog Rescue. She lives currently in Palm Beach County with her cats Daisy and Mario. \n
URL:https://gibsonmusichall.com/event/helen-exner-friends/
LOCATION:Gibson Community Music Hall\, 211 W. College Ave.\, Appleton\, WI\, 54911
CATEGORIES:Folk,Funk,Jazz,Rock,Soul
ATTACH;FMTTYPE=image/jpeg:https://gibsonmusichall.com/wp-content/uploads/2019/05/Helen-Exner.jpg
END:VEVENT
END:VCALENDAR