BEGIN:VCALENDAR
VERSION:2.0
PRODID:-// - ECPv4.9.10//NONSGML v1.0//EN
CALSCALE:GREGORIAN
METHOD:PUBLISH
X-ORIGINAL-URL:https://gibsonmusichall.com
X-WR-CALDESC:Events for 
BEGIN:VTIMEZONE
TZID:America/Chicago
BEGIN:DAYLIGHT
TZOFFSETFROM:-0600
TZOFFSETTO:-0500
TZNAME:CDT
DTSTART:20250309T080000
END:DAYLIGHT
BEGIN:STANDARD
TZOFFSETFROM:-0500
TZOFFSETTO:-0600
TZNAME:CST
DTSTART:20251102T070000
END:STANDARD
END:VTIMEZONE
BEGIN:VEVENT
DTSTART;TZID=America/Chicago:20251218T190000
DTEND;TZID=America/Chicago:20251218T210000
DTSTAMP:20260423T151716
CREATED:20251125T164659Z
LAST-MODIFIED:20251125T164659Z
UID:113855-1766084400-1766091600@gibsonmusichall.com
SUMMARY:Holiday Roots Jam with Bomber & Red
DESCRIPTION:Thursday\, December 18th\nHoliday Roots Jam with Bomber & Red\nand special guests\nBilly Bronsted and Augie Dougherty\nShowtime 7pm | Doors 6pm\nAdvance Tickets $10 \nAdvance buyers and registrations receive guaranteed seating with seat locations being first come first served \n
URL:https://gibsonmusichall.com/event/holiday-roots-jam-with-bomber-red/
ATTACH;FMTTYPE=image/jpeg:https://gibsonmusichall.com/wp-content/uploads/2025/11/12-18-Banner.jpg
END:VEVENT
END:VCALENDAR