BEGIN:VCALENDAR
VERSION:2.0
PRODID:-// - ECPv4.9.10//NONSGML v1.0//EN
CALSCALE:GREGORIAN
METHOD:PUBLISH
X-ORIGINAL-URL:https://gibsonmusichall.com
X-WR-CALDESC:Events for 
BEGIN:VTIMEZONE
TZID:America/Chicago
BEGIN:DAYLIGHT
TZOFFSETFROM:-0600
TZOFFSETTO:-0500
TZNAME:CDT
DTSTART:20220313T080000
END:DAYLIGHT
BEGIN:STANDARD
TZOFFSETFROM:-0500
TZOFFSETTO:-0600
TZNAME:CST
DTSTART:20221106T070000
END:STANDARD
END:VTIMEZONE
BEGIN:VEVENT
DTSTART;TZID=America/Chicago:20220722T190000
DTEND;TZID=America/Chicago:20220722T213000
DTSTAMP:20260421T112319
CREATED:20220712T140332Z
LAST-MODIFIED:20220720T191618Z
UID:75319-1658516400-1658525400@gibsonmusichall.com
SUMMARY:Sam Ness Band\, Austin Stirling at Gibson Community Music Hall
DESCRIPTION:Mile of Music is just around the corner\, and what better way to look forward to it than an debut from Sam Ness Band and a Mile 9 Preview with Indianapolis’ Austin Stirling? Austin will be showcasing his songs and stories behind them\, and Sam Ness Band will be debuting material off of their new album\, so you won’t want to miss out! \nWho: Sam Ness Band\, Austin Stirling\nWhen: Friday\, June 22 at 7:00 PM (Doors at 6:30 PM)\nWhere: Gibson Community Music Hall (211 W College Ave\, Appleton)\nAdmission: $5 at the door; Free for Mile of Music Music-Makers \nSAM NESS BAND: \nFrom theater performer\, to full-time busker and wanderer\, festivals and cafes\, Sam Ness has shared the stage with America\, Styx\, Night Ranger\, Chris Barron (Spin Doctors)\, and many others. Mixing Traditional Folk/Americana roots with a new-age Alternative Singer/Songwriter feel\, Sam Ness finds inspiration in the ancient cobblestone streets across the globe. Sometimes wild and dance oriented\, other moments raw\, emotional\, and punctuated by moments of silence\, Sam’s show changes every night.  His percussive playing paired with an assortment of special effects including a loop system\, have built a sound larger than most full bands. Sam has taken home a handful of Madison (Wisconsin) Area Music Awards including Male Vocalist of the Year (2019\, 2020\, 2021)\, Alternative Album of the Year (Whispered on the Wind 2018)\, Madison Area Breakthrough Artist Second Runner up (2017)\, Cover Song of the Year (Bonnie Raitt’s I Can’t Make You Love Me 2020)\, Unique Performer of the Year (2021). \nAUSTIN STIRLING: \nAustin Stirling is an artist that’s hard to define. His music is wonderfully eclectic and full of diverse subtleties. Even though he may be categorized as a folk singer/songwriter\, he breaks away from the genre’s traditional roots in order to create something passionately unconventional. His songs can run the gamut from New Age soundscapes to blues and Americana. Austin Stirling is truly a renaissance man. \n
URL:https://gibsonmusichall.com/event/mile-9-preview-story-song-showcase-with-austin-stirling/
LOCATION:Gibson Community Music Hall\, 211 W. College Ave.\, Appleton\, WI\, 54911
END:VEVENT
END:VCALENDAR