BEGIN:VCALENDAR
VERSION:2.0
PRODID:-// - ECPv4.9.10//NONSGML v1.0//EN
CALSCALE:GREGORIAN
METHOD:PUBLISH
X-ORIGINAL-URL:https://gibsonmusichall.com
X-WR-CALDESC:Events for 
BEGIN:VTIMEZONE
TZID:America/Chicago
BEGIN:DAYLIGHT
TZOFFSETFROM:-0600
TZOFFSETTO:-0500
TZNAME:CDT
DTSTART:20250309T080000
END:DAYLIGHT
BEGIN:STANDARD
TZOFFSETFROM:-0500
TZOFFSETTO:-0600
TZNAME:CST
DTSTART:20251102T070000
END:STANDARD
END:VTIMEZONE
BEGIN:VEVENT
DTSTART;TZID=America/Chicago:20251217T190000
DTEND;TZID=America/Chicago:20251217T210000
DTSTAMP:20260423T140127
CREATED:20251119T153431Z
LAST-MODIFIED:20251119T153545Z
UID:113185-1765998000-1766005200@gibsonmusichall.com
SUMMARY:Mile of Music Presents: Rhythms & Brews w/ David McMillin (Fort Frances)
DESCRIPTION:Rhythms and Brews: \nThe 2025-26 season of Rhythms & Brews will stage 36 original music shows. This mid-week concert series features popular artists from past Mile of Music Festivals\, sprinkled in with a few acts you may not know\, but you should! Our goal with this special series is to bring you top national\, state and regional singer-songwriters performing their handcrafted songs and sharing stories from the road in an intimate\, music-first setting! The music is FREE for all attendees. \nThis week’s show features David McMillin (Fort Frances). \n7:00-9:00pm showtime\, doors open at 5:30pm! FREE for all music lovers! \nPLEASE NOTE: This is a 21+ event. Valid ID required to enter. Artists subject to change/substitution \n
URL:https://gibsonmusichall.com/event/mile-of-music-presents-rhythms-brews-w-david-mcmillin-fort-frances/
ATTACH;FMTTYPE=image/jpeg:https://gibsonmusichall.com/wp-content/uploads/2025/11/RB-2025-26-Season-Graphic__FBcover1200x630.jpg
END:VEVENT
END:VCALENDAR