BEGIN:VCALENDAR
VERSION:2.0
PRODID:-// - ECPv4.9.10//NONSGML v1.0//EN
CALSCALE:GREGORIAN
METHOD:PUBLISH
X-ORIGINAL-URL:https://gibsonmusichall.com
X-WR-CALDESC:Events for 
BEGIN:VTIMEZONE
TZID:America/Chicago
BEGIN:DAYLIGHT
TZOFFSETFROM:-0600
TZOFFSETTO:-0500
TZNAME:CDT
DTSTART:20180311T080000
END:DAYLIGHT
BEGIN:STANDARD
TZOFFSETFROM:-0500
TZOFFSETTO:-0600
TZNAME:CST
DTSTART:20181104T070000
END:STANDARD
END:VTIMEZONE
BEGIN:VEVENT
DTSTART;TZID=America/Chicago:20181025T190000
DTEND;TZID=America/Chicago:20181025T190000
DTSTAMP:20260421T105556
CREATED:20180422T002237Z
LAST-MODIFIED:20180422T002237Z
UID:33989-1540494000-1540494000@gibsonmusichall.com
SUMMARY:Möbius Strip at Gibson Music Hall
DESCRIPTION:Möbius Strip is the name of a young Italian progressive jazz-rock band from Sora near Rome and its surroundings\, made of Lorenzo Cellupica (keyboards)\, Nico Fabrizi (saxophone & flute)\, Eros Capoccitti (bass) and Davide Rufo (drums).\nThey got their inspiration in the object of the same name: since a Möbius strip geometrically connects the two sides of the same surface by starting a path on one of them\, this also became the purpose of the musicians\, to combine different styles and influences.\nThe result is to be heard on MÖBIUS STRIP’s self-titled album\, published in the year 2017 on the Musea Parallèle label. Here are five long tracks full of freshness and inventivity\, completed by the short composition “Call It A Day”. To be discovered!\nhttps://youtu.be/hozgImyjQx8\n(No Cover\, 21+) \n
URL:https://gibsonmusichall.com/event/mobius-strip-at-gibson-music-hall/
LOCATION:Gibson Community Music Hall\, 211 W. College Ave.\, Appleton\, WI\, 54911
CATEGORIES:Jazz
ATTACH;FMTTYPE=image/jpeg:https://gibsonmusichall.com/wp-content/uploads/2018/04/MöbiusStrip.jpg
END:VEVENT
END:VCALENDAR