BEGIN:VCALENDAR
VERSION:2.0
PRODID:-// - ECPv4.9.10//NONSGML v1.0//EN
CALSCALE:GREGORIAN
METHOD:PUBLISH
X-ORIGINAL-URL:https://gibsonmusichall.com
X-WR-CALDESC:Events for 
BEGIN:VTIMEZONE
TZID:America/Chicago
BEGIN:DAYLIGHT
TZOFFSETFROM:-0600
TZOFFSETTO:-0500
TZNAME:CDT
DTSTART:20190310T080000
END:DAYLIGHT
BEGIN:STANDARD
TZOFFSETFROM:-0500
TZOFFSETTO:-0600
TZNAME:CST
DTSTART:20191103T070000
END:STANDARD
END:VTIMEZONE
BEGIN:VEVENT
DTSTART;TZID=America/Chicago:20191121T190000
DTEND;TZID=America/Chicago:20191121T190000
DTSTAMP:20260420T201622
CREATED:20191114T172054Z
LAST-MODIFIED:20191114T172054Z
UID:57886-1574362800-1574362800@gibsonmusichall.com
SUMMARY:Music Without Boundaries Presents:  The Thriftones
DESCRIPTION:We are heading back to Gibson Music Hall and we are bringing out Milwaukee friends\, the Thriftones. This is going to be one hell of a show\, come join us! \nMusic Without Boundaries Presents:\nThriftones\nThursday November 21\, 2019\nGibson Music Hall\n211 W. College Ave.\, Appleton\, WI\n7pm | No Cover \nwww.music-without-boundaries.com\nwww.facebook.com/thriftones\nwww.gibsonmusichall.com \n
URL:https://gibsonmusichall.com/event/music-without-boundaries-presents-the-thriftones/
LOCATION:Gibson Community Music Hall\, 211 W. College Ave.\, Appleton\, WI\, 54911
CATEGORIES:Folk,Indie Rock,Jam Band
ATTACH;FMTTYPE=image/jpeg:https://gibsonmusichall.com/wp-content/uploads/2019/11/MwoB-thriftones.jpg
END:VEVENT
END:VCALENDAR