BEGIN:VCALENDAR
VERSION:2.0
PRODID:-// - ECPv4.9.10//NONSGML v1.0//EN
CALSCALE:GREGORIAN
METHOD:PUBLISH
X-ORIGINAL-URL:https://gibsonmusichall.com
X-WR-CALDESC:Events for 
BEGIN:VTIMEZONE
TZID:America/Chicago
BEGIN:DAYLIGHT
TZOFFSETFROM:-0600
TZOFFSETTO:-0500
TZNAME:CDT
DTSTART:20250309T080000
END:DAYLIGHT
BEGIN:STANDARD
TZOFFSETFROM:-0500
TZOFFSETTO:-0600
TZNAME:CST
DTSTART:20251102T070000
END:STANDARD
END:VTIMEZONE
BEGIN:VEVENT
DTSTART;TZID=America/Chicago:20251231T180000
DTEND;TZID=America/Chicago:20251231T220000
DTSTAMP:20260421T082232
CREATED:20251223T171825Z
LAST-MODIFIED:20251223T171825Z
UID:115023-1767204000-1767218400@gibsonmusichall.com
SUMMARY:NEW YEAR’S EVE VINYL & VIBES OPEN HOUSE
DESCRIPTION:NEW YEAR’S EVE VINYL & VIBES OPEN HOUSE\nfeaturing a mix of “Messin’ with Max” (guitar wizardry from Max Jones on the front stage) and “Vinyl Tap” (classic album spins) from Randy Socha…PLUS Door Prizes and Trivia from Mile of Music along with a champagne toast (alcohol and NA bubbly)! \nStop in at any time for this Open House event\, with doors at 6 and activities planned thru 10 pm. We’ll finish early to allow for other ball-drop plans! \n
URL:https://gibsonmusichall.com/event/new-years-eve-vinyl-vibes-open-house/
ATTACH;FMTTYPE=image/jpeg:https://gibsonmusichall.com/wp-content/uploads/2025/12/12-31-Banner.jpg
END:VEVENT
END:VCALENDAR