BEGIN:VCALENDAR
VERSION:2.0
PRODID:-// - ECPv4.9.10//NONSGML v1.0//EN
CALSCALE:GREGORIAN
METHOD:PUBLISH
X-ORIGINAL-URL:https://gibsonmusichall.com
X-WR-CALDESC:Events for 
BEGIN:VTIMEZONE
TZID:America/Chicago
BEGIN:DAYLIGHT
TZOFFSETFROM:-0600
TZOFFSETTO:-0500
TZNAME:CDT
DTSTART:20170312T080000
END:DAYLIGHT
BEGIN:STANDARD
TZOFFSETFROM:-0500
TZOFFSETTO:-0600
TZNAME:CST
DTSTART:20171105T070000
END:STANDARD
END:VTIMEZONE
BEGIN:VEVENT
DTSTART;TZID=America/Chicago:20171202T183000
DTEND;TZID=America/Chicago:20171202T203000
DTSTAMP:20260422T010217
CREATED:20170620T205744Z
LAST-MODIFIED:20171015T155045Z
UID:11976-1512239400-1512246600@gibsonmusichall.com
SUMMARY:Nick Anderson & The Skinny Lovers
DESCRIPTION:Nick Anderson and The Skinny Lovers sound like the lovechild of John Mayer and Gary Clark Jr. For fans of vintage style\, modern sounds\, and craft beer. \nAfter a rough patch through high school Nick Anderson overcame depression and realized the power that music has to change lives. Ever since he has been giving his all to write songs that show listeners everyone struggles\, the story just changes details. The “got through depression” story is getting old\, and that itself is the problem. Nick Anderson is about helping people realize they aren’t alone\, that music is an outlet\, and that there is plenty of good in life. \nAs a mental health advocate and an honest writer\, Nick Anderson plays music that digs deep into the emotion of the millenial dreamer. One interviewer called Nick Anderson’s song 24 the “anthem of a generation.” \n  \n
URL:https://gibsonmusichall.com/event/nick-anderson-the-skinny-lovers/
CATEGORIES:Alternative,Folk,Singer/Songwriter
ATTACH;FMTTYPE=image/jpeg:https://gibsonmusichall.com/wp-content/uploads/2017/06/NickAndersonSkinnyLovers.jpg
END:VEVENT
END:VCALENDAR