BEGIN:VCALENDAR
VERSION:2.0
PRODID:-// - ECPv4.9.10//NONSGML v1.0//EN
CALSCALE:GREGORIAN
METHOD:PUBLISH
X-ORIGINAL-URL:https://gibsonmusichall.com
X-WR-CALDESC:Events for 
BEGIN:VTIMEZONE
TZID:America/Chicago
BEGIN:DAYLIGHT
TZOFFSETFROM:-0600
TZOFFSETTO:-0500
TZNAME:CDT
DTSTART:20190310T080000
END:DAYLIGHT
BEGIN:STANDARD
TZOFFSETFROM:-0500
TZOFFSETTO:-0600
TZNAME:CST
DTSTART:20191103T070000
END:STANDARD
END:VTIMEZONE
BEGIN:VEVENT
DTSTART;TZID=America/Chicago:20190228T190000
DTEND;TZID=America/Chicago:20190228T190000
DTSTAMP:20260422T141347
CREATED:20190119T205731Z
LAST-MODIFIED:20190119T210748Z
UID:49258-1551380400-1551380400@gibsonmusichall.com
SUMMARY:Nick Foytik
DESCRIPTION:www.nickfoytik.com \n  \nHailing from the pines of Northern Wisconsin\, Nick began playing guitar at 15. From early on\, his songs have shown a connection to the blues\, soul\, and rock n’ roll. Now\, with more than 20 years of experience\, Nick continues to work as a guitar for hire\, but spends most of his time getting his own music heard. As his solo act moves around the Midwest growing momentum\, he also focuses on the Nick Foytik Band\, catching the ears of their audiences anywhere they go. Whether you’re seeing Nick solo or with his band\, you’re always in for a unique and quality performance. \n
URL:https://gibsonmusichall.com/event/nick-foytik/
CATEGORIES:Blues,Folk
ATTACH;FMTTYPE=image/jpeg:https://gibsonmusichall.com/wp-content/uploads/2019/01/Nick-Foytik.jpg
END:VEVENT
END:VCALENDAR