BEGIN:VCALENDAR
VERSION:2.0
PRODID:-// - ECPv4.9.10//NONSGML v1.0//EN
CALSCALE:GREGORIAN
METHOD:PUBLISH
X-ORIGINAL-URL:https://gibsonmusichall.com
X-WR-CALDESC:Events for 
BEGIN:VTIMEZONE
TZID:America/Chicago
BEGIN:DAYLIGHT
TZOFFSETFROM:-0600
TZOFFSETTO:-0500
TZNAME:CDT
DTSTART:20190310T080000
END:DAYLIGHT
BEGIN:STANDARD
TZOFFSETFROM:-0500
TZOFFSETTO:-0600
TZNAME:CST
DTSTART:20191103T070000
END:STANDARD
END:VTIMEZONE
BEGIN:VEVENT
DTSTART;TZID=America/Chicago:20190323T200000
DTEND;TZID=America/Chicago:20190323T200000
DTSTAMP:20260421T172143
CREATED:20190301T230513Z
LAST-MODIFIED:20190301T230513Z
UID:50476-1553371200-1553371200@gibsonmusichall.com
SUMMARY:Porky's Groove Machine w/ Radiochurch
DESCRIPTION:EVENT INFO:\nWho: Porky’s Groove Machine\, Radiochurch\nDate: Saturday\, March 23\, 2019\nTime: 8:00pm (Doors open at 5:30)\nLocation: Gibson Music Hall (Downtown Appleton)\nAge Restriction: 21+\nTickets: $10 in advance\, $15 at the door. Tickets on sale Monday\, March 4! 2019 Music-Makers have the first opportunity to purchase tickets between now and Monday! \nWe want everyone to feel safe and welcome at this event\, as well as all other Mile of Music Presents events. View our full Vision of Respect here: https://mileofmusic.com/respect/ \nMile of Music/Mile of Music Presents events are produced for the community by Willems Marketing & Events\, Inc. \nThis event is a co-promotion between Mile of Music Presents\, Gibson Music Hall and Porky’s Groove Machine. \n——————————————————– \nPorky’s Groove Machine is heading out on the road to support the release of their new album\, “Hello\, My Name Is”. Don’t miss your chance to get down and boogie to these new tunes while they’re in town for this album-release bash. \nPorky’s Groove Machine (PGM) is a licensed provider of environmentally sustainable nerd funk that is ready to help you get on with your baddest self (Maximum Ink Music Magazine\, July 2017). Since forming in 2011\, they’ve criss-crossed the Midwest and East Coast\, bringing their mature musicality (but not-so-mature sense of humor) to audiences of all ages. With their tight playing\, choreographed dance moves\, and audience-engaging performances\, they always bring a funky party that is sure to get crowds laughing\, dancing\, and singing! \nPGM is joining forces with fellow Minneapolis based artist\, Radiochurch. Radiochurch is a group based in Minneapolis\, MN whose honest\, feel good music has been making waves in the Twin Cities. Each member brings their own unique perspective and style\, creating a fluid and dynamic experience that lends itself to any music lover. In their first year together they performed as a finalist at the Paisley Park Battle of the Bands. \nRecorded at The Hideaway Studios with producer Jason McGlone (Nooky Jones\, McNasty Brass Band) in Minneapolis\, Radiochurchs debut album was recently released in October 2018. Citizens Band is the culmination of over a year of collaborative writing and arranging which serves as the foundation for Ellis Cleves heartfelt lyrics that speak of hopes\, dreams\, and love\, but also of the realities of the disenfranchised in America. From the feel good\, danceable groove of Good Vibes to the more melodic stylings of Paradise\, Citizens Band takes you on a genre bending journey and also packs a powerful lyrical message.\n————————————————————— \nDISCLAIMER: By purchasing a ticket\, you voluntarily assume all risks and danger\, including the risk of lost\, stolen or damaged property or personal injury incidental to any event for which the ticket is issued and waive all claims against the event sponsor\, the owner of the facility\, the ticket producer or issuer. Admission is subject to compliance with all laws and facility rules and the ticket holder consents to reasonable examinations and searches to ensure compliance. Failure to comply with the law or facility rules may result in refusal of admission or ejection from venue. The ticket holder grants the right and license to Mile of Music/Mile of Music Presents to use his or her image\, likeness\, name\, voice\, comments or other proprietary or public rights and that of any minor accompanying the ticket holder in any online promotion\, public broadcast or any future use without notification or compensation. Artists subject to change. All sales are final. No refunds or exchanges. \n
URL:https://gibsonmusichall.com/event/porkys-groove-machine-w-radiochurch/
LOCATION:Gibson Community Music Hall\, 211 W. College Ave.\, Appleton\, WI\, 54911
CATEGORIES:Funk,Indie
ATTACH;FMTTYPE=image/jpeg:https://gibsonmusichall.com/wp-content/uploads/2019/03/Porkys-2019.jpg
END:VEVENT
END:VCALENDAR