BEGIN:VCALENDAR
VERSION:2.0
PRODID:-// - ECPv4.9.10//NONSGML v1.0//EN
CALSCALE:GREGORIAN
METHOD:PUBLISH
X-ORIGINAL-URL:https://gibsonmusichall.com
X-WR-CALDESC:Events for 
BEGIN:VTIMEZONE
TZID:America/Chicago
BEGIN:DAYLIGHT
TZOFFSETFROM:-0600
TZOFFSETTO:-0500
TZNAME:CDT
DTSTART:20220313T080000
END:DAYLIGHT
BEGIN:STANDARD
TZOFFSETFROM:-0500
TZOFFSETTO:-0600
TZNAME:CST
DTSTART:20221106T070000
END:STANDARD
END:VTIMEZONE
BEGIN:VEVENT
DTSTART;TZID=America/Chicago:20220625T193000
DTEND;TZID=America/Chicago:20220625T220000
DTSTAMP:20260423T190358
CREATED:20220617T145651Z
LAST-MODIFIED:20220622T150607Z
UID:74806-1656185400-1656194400@gibsonmusichall.com
SUMMARY:Rachael Davis wsg Christopher Gold at Gibson Community Music Hall
DESCRIPTION:Join us at Gibson Community Music Hall for a special Mile 9 Preview performance featuring national touring artist Rachael Davis and Appleton’s Christopher Gold! \nWho: Rachael Davis\, Christopher Gold\nWhen: Saturday\, June 25 at 7:30 PM (Doors at 7:00 PM)\nWhere: Gibson Community Music Hall (211 W College Ave\, Appleton)\nTickets/Admission: $15 advance tickets; $20 at the door\nTickets: https://bit.ly/DavisGoldJune25 \nRACHAEL DAVIS: \nSongwriter\, banjo-piano-uke-guitar player\, nurturer\, seamstress\, wearer of aprons\, bearer of band-aids\, maker of levity\, staunch adversary of bullshit… \nMulti-instrumentalist Rachael Davis is as renown for her expressive–and explosive–voice as she is for uniting the often desperate worlds of folk\, blues\, country\, and pop. \nDavis has lent her voice to countless recordings for friends\, film soundtracks\, and even video games\, but it is her intuitive and empathetic understanding of folk music—“the music of folks” as she calls it\, and her original and thoughtful songwriting voice that has earned her fans around the U.S. \nCHRISTOPHER GOLD: \nChristopher Gold is a Kentucky-born songwriter living in Wisconsin. Together with his band The New Old Things he has written and recorded folk songs\, country songs\, rock & roll songs\, and everything in between citing a love for songwriters like Townes Van Zandt\, Bob Dylan\, Tom Petty\, John Prine\, and anybody else whose work begins with paper and pen. He travels primarily as a solo act\, carrying on the folk tradition of performances that blend music\, storytelling\, and humor. \n
URL:https://gibsonmusichall.com/event/rachael-davis-wsg-michael-grabner-at-gibson-community-music-hall/
LOCATION:Gibson Community Music Hall\, 211 W. College Ave.\, Appleton\, WI\, 54911
END:VEVENT
END:VCALENDAR