BEGIN:VCALENDAR
VERSION:2.0
PRODID:-// - ECPv4.9.10//NONSGML v1.0//EN
CALSCALE:GREGORIAN
METHOD:PUBLISH
X-ORIGINAL-URL:https://gibsonmusichall.com
X-WR-CALDESC:Events for 
BEGIN:VTIMEZONE
TZID:America/Chicago
BEGIN:DAYLIGHT
TZOFFSETFROM:-0600
TZOFFSETTO:-0500
TZNAME:CDT
DTSTART:20250309T080000
END:DAYLIGHT
BEGIN:STANDARD
TZOFFSETFROM:-0500
TZOFFSETTO:-0600
TZNAME:CST
DTSTART:20251102T070000
END:STANDARD
END:VTIMEZONE
BEGIN:VEVENT
DTSTART;TZID=America/Chicago:20251003T200000
DTEND;TZID=America/Chicago:20251003T220000
DTSTAMP:20260425T201706
CREATED:20250726T172623Z
LAST-MODIFIED:20250726T172623Z
UID:111007-1759521600-1759528800@gibsonmusichall.com
SUMMARY:The Mascot Theory with special guest Miles Nielsen
DESCRIPTION:The Mascot Theory celebrates the release of their most personal and ambitious album yet\, Cosmic Hit And Run\, on Friday\, October 3 at Gibson Music Hall in Appleton. Written through the grief of losing a parent and the shock of a life-threatening diagnosis\, the album transforms heartbreak into harmony in a genre-blurring collection of songs that feels both cinematic and deeply intimate. Before performing the entire new album live\, the band will sit down for a special on-stage interview to share the story of the album by Into The Music Podcast. Miles Nielsen opens the evening with a rare solo set. Don’t miss this powerful night of music\, conversation\, and connection. \n8:00pm Showtime | 6:30pm Doors \n$20 Advance All Seated Ticket \n  \n
URL:https://gibsonmusichall.com/event/the-mascot-theory-with-special-guest-miles-nielsen/
ATTACH;FMTTYPE=image/jpeg:https://gibsonmusichall.com/wp-content/uploads/2025/07/10-3-mascot-theory-square.jpg
END:VEVENT
END:VCALENDAR