BEGIN:VCALENDAR
VERSION:2.0
PRODID:-// - ECPv4.9.10//NONSGML v1.0//EN
CALSCALE:GREGORIAN
METHOD:PUBLISH
X-ORIGINAL-URL:https://gibsonmusichall.com
X-WR-CALDESC:Events for 
BEGIN:VTIMEZONE
TZID:America/Chicago
BEGIN:DAYLIGHT
TZOFFSETFROM:-0600
TZOFFSETTO:-0500
TZNAME:CDT
DTSTART:20180311T080000
END:DAYLIGHT
BEGIN:STANDARD
TZOFFSETFROM:-0500
TZOFFSETTO:-0600
TZNAME:CST
DTSTART:20181104T070000
END:STANDARD
END:VTIMEZONE
BEGIN:VEVENT
DTSTART;TZID=America/Chicago:20180512T213000
DTEND;TZID=America/Chicago:20180512T233000
DTSTAMP:20260421T201800
CREATED:20180506T214248Z
LAST-MODIFIED:20180506T214248Z
UID:34996-1526160600-1526167800@gibsonmusichall.com
SUMMARY:They GuanUS
DESCRIPTION:TheyGuanUs\n-A Mexican/American Fusion Reggae Band.\nFrom Milwaukee Wi.\nBuena Vibra/Musica.\nInfluences: Los cafres\, Dread Mar I \, Cultura Profetica\, Bob Marley\nhttps://www.reverbnation.com/theyguanus \n
URL:https://gibsonmusichall.com/event/they-guanus/
ATTACH;FMTTYPE=image/jpeg:https://gibsonmusichall.com/wp-content/uploads/2018/05/TheyGuanUS.jpg
END:VEVENT
END:VCALENDAR