BEGIN:VCALENDAR
VERSION:2.0
PRODID:-// - ECPv4.9.10//NONSGML v1.0//EN
CALSCALE:GREGORIAN
METHOD:PUBLISH
X-ORIGINAL-URL:https://gibsonmusichall.com
X-WR-CALDESC:Events for 
BEGIN:VTIMEZONE
TZID:America/Chicago
BEGIN:DAYLIGHT
TZOFFSETFROM:-0600
TZOFFSETTO:-0500
TZNAME:CDT
DTSTART:20220313T080000
END:DAYLIGHT
BEGIN:STANDARD
TZOFFSETFROM:-0500
TZOFFSETTO:-0600
TZNAME:CST
DTSTART:20221106T070000
END:STANDARD
END:VTIMEZONE
BEGIN:VEVENT
DTSTART;TZID=America/Chicago:20220808T190000
DTEND;TZID=America/Chicago:20220808T213000
DTSTAMP:20260421T112114
CREATED:20220804T234954Z
LAST-MODIFIED:20220804T234954Z
UID:75814-1659985200-1659994200@gibsonmusichall.com
SUMMARY:Writers Round: Megan Slankard\, Danni Nicholls\, Rachael Kilgour
DESCRIPTION:Join us at Gibson Community Music Hall for a Writer’s Round with a trio of Mile 9 performers in Megan Slankard\, Danni Nicholls and Rachael Kilgour! \nWho: Megan Slankard\, Danni Nicholls\, Rachael Kilgour\nWhen: Monday\, August 8 at 7:00 PM (Doors at 6:30 PM)\nWhere: Gibson Community Music Hall (211 W College Ave\, Appleton)\nAdmission: $10 at the door; Free for Music-Makers and Mile 9 Volunteers \nMEGAN SLANKARD: \nSAN FRANCISCO INDIE-ROCKER nerd Megan Slankard and her band The Wreckage have independently sold over 40\,000 copies of five self-released albums and are currently planning the release of a brand-new album project in October 2022. The record\, which was Co-Produced with Nashville producer Alex Wong\, (Delta Rae\, Vienna Teng\, Elizabeth & The Catapult\,) will showcase new sides of Megan’s music\, balancing delightfully belligerent rock and roll with cinematic soundscapes of orchestral instruments and robot harmonies. \nDANNI NICHOLLS: \nHailing from Bedfordshire\, England\, growing up on the American roots music of her Anglo-Indian grandmother’s record collection\, singer/songwriter Danni Nicholls has been paving her way in UK Americana for over a decade\, building a loyal fan base and much critical praise.\n​With the wind still in her sails from three consecutive Americana Music Association UK award nominations (Album\, Artist and Song of the year in 2017\, 2018 & 2020 respectively) plus extensive tours and opening slots with the likes of The Secret Sisters\, Shakin’ Stevens and Lucinda Williams\, Danni\, her powerful\, arresting voice and her dynamically poetic original songs are ever-gaining presence and reach. \nRACHAEL KILGOUR: \nRachael Kilgour is a Canadian-American songwriter and performing artist whose plain-spoken\, lyric-driven work and intimate performances have endeared her to listeners and fellow artists alike. The 2015 grand prize winner of the international NewSong Music Performance & Songwriting Competition and winner of the 2017 Kerrville New Folk Contest\, Kilgour has been featured at NYC’s Lincoln Center\, at The Kennedy Center in Washington D.C. and at the Sundance Film Festival. \n
URL:https://gibsonmusichall.com/event/writers-round-megan-slankard-danni-nicholls-rachael-kilgour/
LOCATION:Gibson Community Music Hall\, 211 W. College Ave.\, Appleton\, WI\, 54911
END:VEVENT
END:VCALENDAR