BEGIN:VCALENDAR
VERSION:2.0
PRODID:-// - ECPv4.9.10//NONSGML v1.0//EN
CALSCALE:GREGORIAN
METHOD:PUBLISH
X-ORIGINAL-URL:https://gibsonmusichall.com
X-WR-CALDESC:Events for 
BEGIN:VTIMEZONE
TZID:America/Chicago
BEGIN:DAYLIGHT
TZOFFSETFROM:-0600
TZOFFSETTO:-0500
TZNAME:CDT
DTSTART:20250309T080000
END:DAYLIGHT
BEGIN:STANDARD
TZOFFSETFROM:-0500
TZOFFSETTO:-0600
TZNAME:CST
DTSTART:20251102T070000
END:STANDARD
END:VTIMEZONE
BEGIN:VEVENT
DTSTART;TZID=America/Chicago:20251227T130000
DTEND;TZID=America/Chicago:20251227T170000
DTSTAMP:20260423T113242
CREATED:20251223T171720Z
LAST-MODIFIED:20251223T171720Z
UID:114988-1766840400-1766854800@gibsonmusichall.com
SUMMARY:Writers' Round
DESCRIPTION:All-Star WRITERS’ ROUND New Year’s Week Matinee featuring Kurt Gunn\, Sam Ness and David Paul Martin.\nShowtime 2pm | Doors 1pm\nFree Community Music BONUS Event but MMs can reserve a seat by registering \n
URL:https://gibsonmusichall.com/event/writers-round/
ATTACH;FMTTYPE=image/jpeg:https://gibsonmusichall.com/wp-content/uploads/2025/12/12-27-Writers-Round-Banner.jpg
END:VEVENT
END:VCALENDAR